BEGIN:VCALENDAR
VERSION:2.0
PRODID:-//Hero School® Central - ECPv6.15.20//NONSGML v1.0//EN
CALSCALE:GREGORIAN
METHOD:PUBLISH
X-WR-CALNAME:Hero School® Central
X-ORIGINAL-URL:https://heroschool.us
X-WR-CALDESC:Events for Hero School® Central
REFRESH-INTERVAL;VALUE=DURATION:PT1H
X-Robots-Tag:noindex
X-PUBLISHED-TTL:PT1H
BEGIN:VTIMEZONE
TZID:UTC
BEGIN:STANDARD
TZOFFSETFROM:+0000
TZOFFSETTO:+0000
TZNAME:UTC
DTSTART:20220101T000000
END:STANDARD
END:VTIMEZONE
BEGIN:VEVENT
DTSTART;TZID=UTC:20230527T090000
DTEND;TZID=UTC:20230527T160000
DTSTAMP:20260420T062118
CREATED:20230402T190629Z
LAST-MODIFIED:20230402T191245Z
UID:11773-1685178000-1685203200@heroschool.us
SUMMARY:Homeless Breakthrough Academy™ May 27\, 2023
DESCRIPTION:What You Don’t Know Can Hurt You.\nSATURDAY\, May 27\, 2023 ~ Las Vegas\nHero School® Breakthrough Academy™ to Break Cycles and Rapidly Reverse Homelessness with Adults and Youth in Southern Nevada\n \nThose stuck in Homelessness\, Dependency\, Downward Spirals or Repeated History will continue to erode until\, tragically\, they’re gone. Worse still\, they will likely never be remembered. \nThey may receive food\, shelter and services from their community\, without an multidimensional experience that engages and ignites Character Change® – and then realigns their inner tumblers – their imprisoned existence continues. \nSame people\, same struggles\, same behavior\, and same costs to lives and communities\, just a different day. \nHero School-certified Breakthrough Academies were designed to quickly free people from the 4 Habits of Homelessness (Todd\, T.\, 1995)\, and do so for an entire group at one time\, all At The Speed Of Movies™.  \nNo more downward spirals\, wasted resources\, repeated history and broken dreams. No more lost experience\, decaying cognition and unrealized human potential. \nInstead\, communities receive graduates who are inspired earners\, learners and contributors\, heroes ready to seize their own opportunities and not remain perpetually dependent on people\, substances or government services. \nIf you know someone who is stuggling in homelessness\, houselessness or hopelessness\, help them RSVP today at (702) 795-7000. \n \nIn every movie\, the would-be hero must overcome obstacles\, adversity\, heartbreak – and their own past – on the way to accomplishing an impossible goal. \nNow imagine this would-be hero has been struggling in cycles of homelessness and dependency\, without income\, mentors or connections – or a home\, transportation\, identification or a positive identity – for years… \nHuman beings in this condition need more than good ideas\, good programs or good luck. \n\nThe greatest enemy of the best is the good. -Stephen R. Covey \n\nSettling for “the good” has left more people at risk or in cycles of homelessness than ever before. \nThe best thing during the worst cycles is a breakthrough. \nThis is a Breakthrough Academy™. \nBusiness and city leaders weary from a problem that should have been solved\, not one that has been turned into an industry at the expense of safety\, prosperity and human lives\, consider Sponsoring a student’s tuition and transformation HERE.  \nBreakthrough Academies\, built on the accelerated Hero School® learning model and methodology\, were first employed 27 years ago to ignite rapid and lasting change with the homeless\, houseless and hopeless…At The Speed Of Movies. \nWhy lose 2 more years of life when you could have a breakthrough in just 2 hours? \nWe believe there’s more to every human’s life than what they’ve been showing. \n \nImagine how many educational\, employment and social programs would launch out of single-digit success if a human first educational experience first ignited a desire for learning\, earning and contributing in those who’ve slipped through the cracks\, been constantly marginalized\, continue repeating history or have given up trying. \nIf you know someone who needs a breakthrough\, simply sponsor them through a Breakthrough Academy. \nSponsors help Breakthrough Academies remain 100% FREE for Homeless and Houseless Adults and Youth (16+) \nTuition Sponsors  help more struggling adults and youth break through. \nDo you know someone Homeless\, Houseless\, Hopeless? \n\nHere’s how to know if someone you knows needs a Breakthrough Academy? \n\nAnswer these questions to see if the Homelessness Breakthrough Academy is for you.\nAre gaps in education and work history leaving them further behind?\nDo they need help earning what they want\, and living like they must?\nDo they struggle with dependency\, on the wrong people\, services\, substances?\nAre they stuck in endless cycles of Repeated History with jobs\, jail and relationships?\nDo you want them empowered and moving forward on their own\, really fast?\nDo they need a Magical and Lasting Heroic Experience?\nDo YOU?\nThen HERO SCHOOL is for them. Maybe you\, too. \n\nCLICK TO DOWNLOAD STREET INVITE: Breakthrough Academy FLIER May 2023 BOTH \nThis Every unique Hero School Breakthrough Academy delivers a strategic series of interactive sessions and resources: \n\nHero School 101: Accelerated Character Change®\n7 Steps to the Job You Want™ Workshop\nMultidimensional Money Strategies\nEmployment to Entrepreneurship Planning\nLegal and Income Recovery Q&As\nBus Pass and Backpack Raffle\nAccelerated Birth Certificate Service*\nBreakfast and Lunch Provided\nFresh Clothes and Educational Resources\nResume Gap and Interview Strategies\nBarrier Removal Question & Answer Sessions\nAnd More\n\nFor Attendees to RSVP send Form below or call (702) 795-7000   \n*Speedy ID recovery service is free for first 24 homeless RSVPs/attendees \n \nABOUT BREAKTHROUGH ACADEMIES\nA. Homeless attend FREE with Tuition Scholarship and RSVP \nB. Employed Nevadans\, Non-Profit and Agency Staff: $297 \n~Adults and Teens 16-years-and-older ONLY – no children or pets\, please \n \n\nPreliminary SCHEDULE: BREAKTHROUGH ACADEMY\nSaturday\, May 27\, 2023\nCARE Complex – 200 Foremaster Lane\, Main Building\n \n\nSATURDAY\, February 25 / Location: CARE Complex\n\n9:15am – 9:55am: Refreshments\, Sign-in and Seating\n10:00am – 12:00p: Hero School® MOVIE FORMULA Experience with author Tiger Todd and LaQuan Phillips\n12:00pm – 12:45pm: Lunch provided \n12:45pm – 3:00pm: Money\, Career\, Entrepreneur and Relationship Strategies w/LaQuan Phillips\, Mark Chamberlain and Tiger Todd\n3:00pm – 4:00pm : Question and Answer Session\, Fresh Clothes\, Raffle Prizes\, Scholarships*\, Further Education\, Career Connections & Bus Pass\n\nMonday\, May 29\, 2023\n\nMONDAY\, November 14: CARE Complex – 200 Foremaster Lane\nA. Morning: 10:00am – 12:00pm: Ramp-Up to Life On Your Terms – includes Coffee/Hot Chocolate/Snacks\, then Practice Session and snack\nB. Afternoon: 1:00pm – 3:00pm: Legal Eagle Q&A with Erika Pike Turner\, Esq and Partner\, GTG Law\n\n\nTuesday\, May 30\, 2023\n\nTUESDAY\, November 15: CARE Complex – 200 Foremaster Lane\nA. Morning: 10:00am – 12:00pm: SPEEDY ID Day/Creating a Winning Resume Workshop – includes Coffee/Hot Chocolate/Snacks\, then Practice Session\, Rush Orders of Birth Certificates\, snack before afternoon session\nB. Afternoon: 1:00pm – 3:00pm: Multiplying Your Value Q&A with Clairvoyix CEO Mike Schmitt (bus pass included at conclusion)\n\nJune 1 – 21\, 2023olol\n\nPOST ACADEMY Follow-Up Coaching \nCoach Carolyn meets graduates with IDs\, Resources and Connections\n\nRSVP to (702) 795-7000 or send the form on this page \n\n\n                \n                        \n                            RSVP for Hero School\n                            To Apply for a Scholarship to Hero School\, please fill out the form with a short description about your life today and how you'd like it to be in the future. \n                         \n \n                        CompanyThis field is for validation purposes and should be left unchanged.Agency or School:*Your Name*\n                                    \n                                Email*\n                            \n                        Best phone number*Requested date\n                            \n                            MM slash DD slash YYYY\n                        \n                        Comments
URL:https://heroschool.us/event/homeless-breakthrough-academy-may-27-2023/
LOCATION:CARE Complex\, 200 Foremaster Lane\, Las Vegas\, NV\, 89101\, United States
CATEGORIES:Community,Hero School,Hero School Events,Homeless,Underemployed
ATTACH;FMTTYPE=image/jpeg:https://heroschool.us/wp-content/uploads/2023/04/Breakthrough-Academy-May-2023-A-e1680462674587.jpg
ORGANIZER;CN="Hero School Community Initiatives":MAILTO:info@heroschool.us
END:VEVENT
END:VCALENDAR