BEGIN:VCALENDAR
VERSION:2.0
PRODID:-//Hero School® Central - ECPv6.15.20//NONSGML v1.0//EN
CALSCALE:GREGORIAN
METHOD:PUBLISH
X-WR-CALNAME:Hero School® Central
X-ORIGINAL-URL:https://heroschool.us
X-WR-CALDESC:Events for Hero School® Central
REFRESH-INTERVAL;VALUE=DURATION:PT1H
X-Robots-Tag:noindex
X-PUBLISHED-TTL:PT1H
BEGIN:VTIMEZONE
TZID:UTC
BEGIN:STANDARD
TZOFFSETFROM:+0000
TZOFFSETTO:+0000
TZNAME:UTC
DTSTART:20210101T000000
END:STANDARD
END:VTIMEZONE
BEGIN:VEVENT
DTSTART;TZID=UTC:20220910T093000
DTEND;TZID=UTC:20220910T163000
DTSTAMP:20260420T173754
CREATED:20220421T093000Z
LAST-MODIFIED:20220802T015803Z
UID:11645-1662802200-1662827400@heroschool.us
SUMMARY:Breakthrough Academy 2022
DESCRIPTION:Real. Life. Change. In Hours. September 10\, 2022\nToo many people stuck in Homelessness\, Dependency\, Downward Spirals or Repeated History will continue to erode until they’re gone. No more opportunities. No more friendships. So much unrealized potential. Gone and forgotten. \nOn September 10\, 2022\, we will help them rewrite their story and birth their inner hero\, one that can change their history and their destiny. \nThis is your Hero School. \n \nIn every movie\, the would-be hero must overcome obstacles\, adversity\, heartbreak – and their own past – on the way to accomplishing an impossible goal. \nNow imagine this would-be hero has been struggling in cycles of homelessness and dependency\, without income\, mentors or connections – or a home\, transportation\, identification or a positive identity – for years… \nHuman beings in this condition need more than good ideas\, good programs or good luck. \nThe greatest enemy of the best is the good. -Stephen R. Covey \nSettling for “the good” has left more people at risk or in cycles of homelessness than ever before. \nThe best thing during the worst cycles is a breakthrough. \nThis is a Breakthrough Academy™. \nBreakthrough Academies\, built on the accelerated Hero School® learning model and methodology\, were first employed more than 25 years ago to ignite rapid and lasting change with the homeless\, houseless and hopeless…At The Speed Of Movies. \nWhy lose 2 more years of life when you could have a breakthrough in just 2 hours? \nWe believe there’s more to every human’s life than what they’ve been showing. \nImagine how many educational\, employment and social programs would launch out of single-digit success if a human first educational experience first ignited a desire for learning\, earning and contributing in those who’ve slipped through the cracks\, been constantly marginalized\, continue repeating history or have given up trying. \nIf you know someone who needs a breakthrough\, simply sponsor them through a Breakthrough Academy. \nSponsors help Breakthrough Academies remain 100% FREE for Homeless and Houseless Adults and Youth (16+) \n \nTuition Sponsors  help more struggling adults and youth break through. \n Adopt a Student and be an InstantHero \nDo you know someone Homeless\, Houseless\, Hopeless? \n\nHere’s how to know if someone you knows needs a Breakthrough Academy? \n\nAnswer these questions to see if the Homelessness Breakthrough Academy is for you.\nAre gaps in education and work history leaving them further behind?\nDo they need help earning what they want\, and living like they must?\nDo they struggle with dependency\, on the wrong people\, services\, substances?\nAre they stuck in endless cycles of Repeated History with jobs\, jail and relationships?\nDo you want them empowered and moving forward on their own\, really fast?\nDo they need a Magical and Lasting Heroic Experience?\nDo YOU?\nThen HERO SCHOOL is for them. Maybe you\, too. \n\nDOWNLOAD PAST FLYER HERE:  Academy FLIER Sept 2022 A-BOTH \nThis Every unique Hero School Breakthrough Academy delivers a strategic series of interactive sessions and resources: \n\nHero School 101: Accelerated Character Change®\n7 Steps to the Job You Want™ Workshop\nMultidimensional Money Strategies\nEmployment to Entrepreneurship Planning\nLegal and Income Recovery Q&As\nBus Pass and Backpack Raffle\nAccelerated Birth Certificate Service*\nBreakfast and Lunch Provided\nFresh Clothes and Educational Resources\nResume Gap and Interview Strategies\nBarrier Removal Question & Answer Sessions\nAnd More\n\nFor Attendees to RSVP send Form below or call (702) 795-7000   \n*Speedy ID recovery service is free for first 24 homeless RSVPs/attendees \n \nABOUT BREAKTHROUGH ACADEMY\n*Homeless attend FREE with Tuition Scholarship and RSVP \nEmployed Nevadans\, Non-Profit and Agency Staff $297 \n~Adults and Teens 16-years-and-older ONLY – no children or pets\, please \n \n\nPreliminary SCHEDULE: BREAKTHROUGH ACADEMY\nSaturday\, Sept 10\, 2022\nCARE Complex – 200 Foremaster Lane\, Main Building\n \nSATURDAY\, September 10: CARE Complex\n9:15am – 9:55am : Refreshments in Courtyard\, Sign-in and Seating \n10:00am – 12:00p : Hero School® MOVIE FORMULA Experience with author Tiger Todd and LaQuan Phillips \n12:00pm – 12:45pm : Lunch provided  \n12:45pm – 3:00pm : Money\, Career\, Entrepreneur and Relationship Strategies w/LaQuan Phillips\, Mark Chamberlain and Tiger Todd \n3:00pm – 4:00pm : Question and Answer Session\, Fresh Clothes\, Raffle Prizes\, Scholarships*\, Further Education\, Career Connections & Bus Pass \nMONDAY\, September 12: CARE Complex – 200 Foremaster Lane\n1:00pm – 3:00pm : Experts Q&A\, Ramp-Up to Meaningful Employment with Top Business Owners (includes snacks and bus pass)\n \nTUESDAY\, September 13: CARE Complex – 200 Foremaster Lane\n1:00pm – 3:00pm : Experts Q&A\, Income & Legal Answers plus Bonus Resources (includes snack and bus pass)\n \nWEDNESDAY\, September 14: CARE Complex – 200 Foremaster Lane\n1:00pm – 3:00pm : SPEEDY ID Day/Creating a Winning Resume Workshop \nTHURSDAY\, September 15: CARE Complex – 200 Foremaster Lane\n1:00pm – 3:00pm Next Steps for Advancement \nRSVP to (702) 795-7000 or send the form on this page. \n\n\n                \n                        \n                            RSVP for Hero School\n                            To Apply for a Scholarship to Hero School\, please fill out the form with a short description about your life today and how you'd like it to be in the future. \n                         \n \n                        InstagramThis field is for validation purposes and should be left unchanged.Agency or School:*Your Name*\n                                    \n                                Email*\n                            \n                        Best phone number*Requested date\n                            \n                            MM slash DD slash YYYY\n                        \n                        Comments\n          \n            \n            \n            \n            \n            \n            \n            \n            \n            \n            \n            \n            \n            \n        \n                        \n                        \n\n \n©2022 Hero School non-profit initiatives. \nHero School® and Character Change® are Registered Trademarks of Hero School Inc.©1998-2022 All Rights Reserved
URL:https://heroschool.us/event/2022-breakthrough-academy/
LOCATION:CARE Complex\, 200 Foremaster Lane\, Las Vegas\, NV\, 89101\, United States
CATEGORIES:Hero School,Hero School Events,Homeless,Underemployed
ATTACH;FMTTYPE=image/jpeg:https://heroschool.us/wp-content/uploads/2022/04/Academy-FLIER-Sept-2022-A-e1659403409778.jpg
END:VEVENT
END:VCALENDAR