BEGIN:VCALENDAR
VERSION:2.0
PRODID:-//Hero School® Central - ECPv6.15.20//NONSGML v1.0//EN
CALSCALE:GREGORIAN
METHOD:PUBLISH
X-ORIGINAL-URL:https://heroschool.us
X-WR-CALDESC:Events for Hero School® Central
REFRESH-INTERVAL;VALUE=DURATION:PT1H
X-Robots-Tag:noindex
X-PUBLISHED-TTL:PT1H
BEGIN:VTIMEZONE
TZID:America/Los_Angeles
BEGIN:DAYLIGHT
TZOFFSETFROM:-0800
TZOFFSETTO:-0700
TZNAME:PDT
DTSTART:20210314T100000
END:DAYLIGHT
BEGIN:STANDARD
TZOFFSETFROM:-0700
TZOFFSETTO:-0800
TZNAME:PST
DTSTART:20211107T090000
END:STANDARD
BEGIN:DAYLIGHT
TZOFFSETFROM:-0800
TZOFFSETTO:-0700
TZNAME:PDT
DTSTART:20220313T100000
END:DAYLIGHT
BEGIN:STANDARD
TZOFFSETFROM:-0700
TZOFFSETTO:-0800
TZNAME:PST
DTSTART:20221106T090000
END:STANDARD
BEGIN:DAYLIGHT
TZOFFSETFROM:-0800
TZOFFSETTO:-0700
TZNAME:PDT
DTSTART:20230312T100000
END:DAYLIGHT
BEGIN:STANDARD
TZOFFSETFROM:-0700
TZOFFSETTO:-0800
TZNAME:PST
DTSTART:20231105T090000
END:STANDARD
END:VTIMEZONE
BEGIN:VEVENT
DTSTART;TZID=America/Los_Angeles:20220226T093000
DTEND;TZID=America/Los_Angeles:20220303T160000
DTSTAMP:20260421T070121
CREATED:20190709T214320Z
LAST-MODIFIED:20220206T022620Z
UID:6665-1645867800-1646323200@heroschool.us
SUMMARY:Homelessness Breakthrough Academy
DESCRIPTION:Real. Life. Change. In Hours.\nIn every movie\, the would-be hero must overcome obstacles\, adversity\, heartbreak – and their own past – on the way to accomplishing an impossible goal. \nNow imagine this would-be hero has been struggling in cycles of homelessness and dependency\, without income\, mentors or connections\, let alone without a home\, transportation or even identification – or a solid identity – for years… \nThe greatest enemy of the best is the good. -Stephen R. Covey \nOf the many “good ideas” that have left more people at risk or in cycles of homelessness than ever before\, where do we even start? \nAt a Breakthrough Academy™. \nFor more than 25 years\, Breakthrough Academies uses the proven Hero School® model and methodology to ignite rapid and lasting change with the homeless\, houseless and hopeless…At The Speed Of Movies. \nWe believe there’s more to every human’s life than what they’ve been showing. \nImagine a human first educational experience that ignites a desire for learning\, earning and contributing for those who’ve slipped through the cracks\, been constantly marginalized\, continue repeating history or have given up trying. \nDo you know someone who needs a Breakthrough Academy?  \nSponsors help Breakthrough Academies remain 100% FREE for Homeless and Houseless Adults and Youth (16+) \n \nTuition Sponsors  help more struggling adults and youth break through. \n Adopt a Student and be an InstantHero \nDo you know someone Homeless\, Houseless\, Hopeless? \n\nHere’s how to know if someone you knows needs a Breakthrough Academy? \n\nAnswer these questions to see if the Homelessness Breakthrough Academy is for you.\nAre gaps in education and work history leaving them further behind?\nDo they need help earning what they want\, and living like they must?\nDo they struggle with dependency\, on the wrong people\, services\, substances?\nAre they stuck in endless cycles of Repeated History with jobs\, jail and relationships?\nDo you want them empowered and moving forward on their own\, really fast?\nDo they need a Magical and Lasting Heroic Experience?\nDo YOU?\nThen HERO SCHOOL is for them. Maybe you\, too. \n\nDOWNLOAD FLYER HERE Hero School® Academy FLIER 2-26-22 DBL\n \nJoin the revolutionary school\, actually making a difference in just a few short hours. Hero School offers breakthrough academy to those in need through sponsorships. \nThis Every unique Hero School Breakthrough Academy delivers a strategic series of interactive sessions and resources: \n\nHero School 101: Accelerated Character Change®\n7 Steps to the Job You Want™ Workshop\nMultidimensional Money Strategies\nEmployment to Entrepreneurship Planning\nLegal and Income Recovery Q&As\nBus Pass and Backpack Raffle\nAccelerated Birth Certificate Service*\nBreakfast and Lunch Provided\nFresh Clothes and Educational Resources\nResume Gap and Interview Strategies\nBarrier Removal Question & Answer Sessions\nAnd More\n\nFor Attendees to RSVP send Form below or call (702) 795-7000   \n*Speedy ID recovery service is free for first 24 homeless RSVPs/attendees \n \nABOUT BREAKTHROUGH ACADEMY\n*Homeless attend FREE with Tuition Scholarship and RSVP \nEmployed Nevadans\, Non-Profit and Agency Staff $297 \n~Adults and Teens 16-years-and-older ONLY – no children or pets\, please \n \n\nPreliminary SCHEDULE: BREAKTHROUGH ACADEMY\nSaturday\, Feb. 26th – March 3rd\, 2022\nCARE Complex – 200 Foremaster Lane\, Main Building\n \nSATURDAY\, February 26th: CARE Complex\n9:15am – 9:55am : Refreshments in Courtyard\, Sign-in and Seating \n10:00am – 12:00p : Hero School® MOVIE FORMULA Experience with author Tiger Todd and LaQuan Phillips \n12:00pm – 12:45pm : Lunch provided  \n12:45pm – 3:00pm : Money\, Career\, Entrepreneur and Relationship Strategies w/LaQuan Phillips\, Mark Chamberlain and Tiger Todd \n3:00pm – 4:00pm : Question and Answer Session\, Fresh Clothes\, Raffle Prizes\, Scholarships*\, Further Education\, Career Connections & Bus Pass \nMONDAY\, Feb. 28th: CARE Complex – 200 Foremaster Lane\n1:00pm – 3:00pm : Experts Q&A\, Ramp-Up to Meaningful Employment with Top Business Owners (includes snacks and bus pass)\n \nTUESDAY\, March 1st: CARE Complex – 200 Foremaster Lane\n1:00pm – 3:00pm : Experts Q&A\, Income & Legal Answers plus Bonus Resources (includes snack and bus pass)\n \nWEDNESDAY\, March 2nd: CARE Complex – 200 Foremaster Lane\n1:00pm – 3:00pm : SPEEDY ID Day/Creating a Winning Resume Workshop \nTHURSDAY\, March 3rd: CARE Complex – 200 Foremaster Lane\n1:00pm – 3:00pm Next Steps for Advancement \nRSVP to (702) 795-7000 or send the form on this page. \n\n\n                \n                        \n                            RSVP for Hero School\n                            To Apply for a Scholarship to Hero School\, please fill out the form with a short description about your life today and how you'd like it to be in the future. \n                         \n \n                        LinkedInThis field is for validation purposes and should be left unchanged.Agency or School:*Your Name*\n                                    \n                                Email*\n                            \n                        Best phone number*Requested date\n                            \n                            MM slash DD slash YYYY\n                        \n                        Comments\n          \n            \n            \n            \n            \n            \n            \n            \n            \n            \n            \n            \n            \n            \n        \n                        \n                        \n\n \n©2022 Hero School non-profit initiatives. \nHero School® and Character Change® are Registered Trademarks of Hero School Inc.©1998-2022 All Rights Reserved
URL:https://heroschool.us/event/breakthrough-2022/
LOCATION:CARE Complex\, 200 Foremaster Lane\, Las Vegas\, NV\, 89101\, United States
CATEGORIES:Hero School,Hero School Events,Homeless,SUIT-Up,Underemployed
ATTACH;FMTTYPE=image/jpeg:https://heroschool.us/wp-content/uploads/2019/07/Hero-School®-Breathrough-Academy-2-26-22-WEB.jpg
ORGANIZER;CN="Hero School Community Initiatives":MAILTO:info@heroschool.us
END:VEVENT
END:VCALENDAR