BEGIN:VCALENDAR
VERSION:2.0
PRODID:-//Hero School® Central - ECPv6.15.20//NONSGML v1.0//EN
CALSCALE:GREGORIAN
METHOD:PUBLISH
X-ORIGINAL-URL:https://heroschool.us
X-WR-CALDESC:Events for Hero School® Central
REFRESH-INTERVAL;VALUE=DURATION:PT1H
X-Robots-Tag:noindex
X-PUBLISHED-TTL:PT1H
BEGIN:VTIMEZONE
TZID:UTC
BEGIN:STANDARD
TZOFFSETFROM:+0000
TZOFFSETTO:+0000
TZNAME:UTC
DTSTART:20200101T000000
END:STANDARD
END:VTIMEZONE
BEGIN:VEVENT
DTSTART;TZID=UTC:20211113T090000
DTEND;TZID=UTC:20211113T160000
DTSTAMP:20260423T113412
CREATED:20201101T222346Z
LAST-MODIFIED:20210826T172137Z
UID:11278-1636794000-1636819200@heroschool.us
SUMMARY:26th Anniversary Breakthrough Academy
DESCRIPTION:In every movie\, the would-be hero must overcome obstacles\, adversity\, heartbreak – and their own past – on the way to accomplishing an impossible goal. \nNow imagine this would-be hero has been struggling in cycles of homelessness and dependency\, without income\, mentors or connections – let alone no home\, transportation or even identification – for years… \nAre they a lost cause? Of the many “good ideas” that have left us more homeless than ever\, where do we even start? \nWith the human. \nThe greatest enemy of the best is the good. -Stephen R. Covey \nA Breakthrough Academy uses the Hero School® learning engine to reengage up to 100 men\, women and youth AT THEIR INNER HUMAN\, igniting a desire for learning\, earning and contributing. And in a fraction of the time of all other approaches combined. \nReal. Life. Change. At The Speed Of Movies. \n100% FREE for Homeless and Houseless Adults and Youth (16+) \n \nCertified in the 4 Habits of Homelessness (Todd.\, T. 1995) – and what neutralizes corresponding obstacles and behaviors –  Hero School change agents quickly activate the powers lying dormant inside each human resulting in authentic Character Change®.  \nAttendees are further equipped with essential connections\, resources and tools for their return as the person who can accomplish the impossible in their life. They return to their community a hero. \nTUITION SPONSORS \nAs a Tuition Sponsor\, you play a pivotal role in the transformation of someone in a downward spiral into a learning\, earning\, responsible\, community contributor. \nCan we count on you to help more youth and adults break free from living homeless\, houseless and hopeless? \nCLICK HERE to Sponsor a Student’s Breakthrough \nDo you know someone Homeless\, Houseless\, Hopeless?\nHere’s how to know if they need a Breakthrough? \n\nAnswer these questions to see if the Homelessness Breakthrough Academy is for you.\nAre gaps in education and work history leaving them further behind?\nDo they need help earning what they want\, and living like they must?\nDo they struggle with dependency\, on the wrong people\, services\, substances?\nAre they stuck in endless cycles of Repeated History with jobs\, jail and relationships?\nDo you want them empowered and moving forward on their own\, really fast?\nDo they need a Magical and Lasting Heroic Experience?\nDo YOU?\nThen HERO SCHOOL is for them. Maybe you\, too. \n\nDOWNLOAD FLYER HERE\n \nJoin the revolutionary school\, actually making a difference in just a few short hours. Hero School offers breakthrough academy to those in need through sponsorships. \n \nThis Every unique Hero School Breakthrough Academy delivers a strategic series of interactive sessions and resources: \n\nHero School 101: Accelerated Character Change®\n7 Steps to the Job You Want™ Workshop\nMultidimensional Money Strategies\nEmployment to Entrepreneurship Planning\nLegal and Income Recovery Q&As\nBus Pass and Backpack Raffle\nAccelerated Birth Certificate Service*\nBreakfast and Lunch Provided\nFresh Clothes and Educational Resources\nResume Gap and Interview Strategies\nBarrier Removal Question & Answer Sessions\nAnd More\n\nFor Attendees to RSVP send Form below or call (702) 795-7000   \n*Speedy ID recovery service is free for first 24 homeless RSVPs/attendees \n \nABOUT BREAKTHROUGH ACADEMY\n*Homeless attend FREE with Tuition Scholarship and RSVP \nEmployed Nevadans\, Non-Profit and Agency Staff $297 \n~Adults and Teens 16-years-and-older ONLY – no children or pets\, please \n \n\n26th Anniversary BREAKTHROUGH ACADEMY\nPreliminary SCHEDULE:\nSATURDAY\, November 13th\, 2021: CARE Complex\n9:15am – 9:55am : Refreshments in Courtyard\, Sign-in and Seating \n10:00am – 12:00p : Hero School® MOVIE FORMULA Experience with author Tiger Todd and LaQuan Phillips \n12:00pm – 12:45pm : Lunch provided  \n12:45pm – 3:00pm : Money\, Career\, Entrepreneur and Relationship Strategies w/LaQuan Phillips\, Mark Chamberlain and Tiger Todd \n3:00pm – 4:00pm : Question and Answer Session\, Fresh Clothes\, Raffle Prizes\, Scholarships*\, Further Education\, Career Connections & Bus Pass \nMONDAY\, November 15th\, 2021: CARE Complex\n1:00pm – 3:00pm : Experts Q&A\, Ramp-Up to Meaningful Employment with Top Business Owners (includes snack and bus pass) \nTUESDAY\, November 16th\, 2021: CARE Complex\n1:00pm – 3:00pm : Experts Q&A\, Income & Legal Answers plus Bonus Resources (includes snack and bus pass) \nWEDNESDAY\, November 17th\, 2021: CARE Complex\n1:00pm – 3:00pm : Speedy ID Service/Birth Certificate Ordering (includes snack and bus pass) \nRSVP to (702) 795-7000 or send the form on this page. \n\n\n                \n                        \n                            RSVP for Hero School\n                            To Apply for a Scholarship to Hero School\, please fill out the form with a short description about your life today and how you'd like it to be in the future. \n                         \n \n                        CompanyThis field is for validation purposes and should be left unchanged.Agency or School:*Your Name*\n                                    \n                                Email*\n                            \n                        Best phone number*Requested date\n                            \n                            MM slash DD slash YYYY\n                        \n                        Comments\n          \n            \n            \n            \n            \n            \n            \n            \n            \n            \n            \n            \n            \n            \n        \n                        \n                        \n\n©2021 Hero School non-profit initiatives. \nHero School® and Character Change® are Registered Trademarks of Hero School Inc.©1998-2021 All Rights Reserved
URL:https://heroschool.us/event/26th-anniversary-breakthrough-academy/
LOCATION:CARE Complex\, 200 Foremaster Lane\, Las Vegas\, NV\, 89101\, United States
CATEGORIES:Hero School,Hero School Events,Homeless,Underemployed
ATTACH;FMTTYPE=image/jpeg:https://heroschool.us/wp-content/uploads/2020/11/Hero-School®-Breakthrough-Academy-Nov-2021.jpg
END:VEVENT
END:VCALENDAR