BEGIN:VCALENDAR
VERSION:2.0
PRODID:-//Hero School® Central - ECPv6.15.20//NONSGML v1.0//EN
CALSCALE:GREGORIAN
METHOD:PUBLISH
X-WR-CALNAME:Hero School® Central
X-ORIGINAL-URL:https://heroschool.us
X-WR-CALDESC:Events for Hero School® Central
REFRESH-INTERVAL;VALUE=DURATION:PT1H
X-Robots-Tag:noindex
X-PUBLISHED-TTL:PT1H
BEGIN:VTIMEZONE
TZID:America/Los_Angeles
BEGIN:DAYLIGHT
TZOFFSETFROM:-0800
TZOFFSETTO:-0700
TZNAME:PDT
DTSTART:20240310T100000
END:DAYLIGHT
BEGIN:STANDARD
TZOFFSETFROM:-0700
TZOFFSETTO:-0800
TZNAME:PST
DTSTART:20241103T090000
END:STANDARD
BEGIN:DAYLIGHT
TZOFFSETFROM:-0800
TZOFFSETTO:-0700
TZNAME:PDT
DTSTART:20250309T100000
END:DAYLIGHT
BEGIN:STANDARD
TZOFFSETFROM:-0700
TZOFFSETTO:-0800
TZNAME:PST
DTSTART:20251102T090000
END:STANDARD
BEGIN:DAYLIGHT
TZOFFSETFROM:-0800
TZOFFSETTO:-0700
TZNAME:PDT
DTSTART:20260308T100000
END:DAYLIGHT
BEGIN:STANDARD
TZOFFSETFROM:-0700
TZOFFSETTO:-0800
TZNAME:PST
DTSTART:20261101T090000
END:STANDARD
END:VTIMEZONE
BEGIN:VEVENT
DTSTART;TZID=America/Los_Angeles:20250824T120000
DTEND;TZID=America/Los_Angeles:20250824T153000
DTSTAMP:20260424T142614
CREATED:20250708T085617Z
LAST-MODIFIED:20250708T090329Z
UID:12349-1756036800-1756049400@heroschool.us
SUMMARY:Kung Fu Hustle Birthday Bash 2025!
DESCRIPTION:Dine\, dance and dress in your Asian best as we celebrate Asian Cuisine\, Asian Movies\, and Birthday Notables to benefit Hero School!\n\n\nDO THE HUSTLE!\nCelebrate Asian Style\, Cuisine\, and Movie Culture at the Kung Fu Hustle Birthday Bash!\nIn the spirit of our annual Bollywood Birthday Bash\, it’s the Kung Fu Hustle Birthday Bash! \nJoin Nevada notables and Birthday Bashers for an afternoon of fun\, connecting and reconnecting – while enjoying gourmet food\, heroic friendships\, asian movie fashions and karaoke – to benefit HERO SCHOOL Community Initiatives. \n_______________________________________________________________________________________________ \n~ Sunday\, August 24\, 2025 / 12pm – 3:30pm ~\n~ Taste of Asia / SunCoast Resort – Las Vegas ~\nPARTY 12:00pm to 1:30pm ~ Feast\, Celebrate and Make Memories \nMORE PARTY 1:30pm to 3:30pm ~ Cake\, Karoke and Dancing \nLOCATION ~ Taste of Asia ~ 9090 Alta Dr.\, Las Vegas NV 89144 (Inside Suncoast) \n \nSpecial Entertainment and Guests \nGOURMET FEAST√ FASHION√ DISCO√ PHOTO MEMORIES√ PARTY√ CAKE√ DANCING√ SPECIAL ENTERTAINERS√ KARAOKE√ CONNECTIONS√ FOR A HEROIC CAUSE√ \nImmerse yourself in the magic of Asian culture – and Stephen Chow’s Kung Fu Hustle movie masterpiece – while celebrating birthdays and extraordinary individuals from around the world. \nMark your calendars and take advantage of EARLY BIRD and ADVANCE PURCHASE tickets before they’re gone. \nThe Kung Fu Hustle BIRTHDAY BASH TICKET includes the Gourmet Feast\, Entertainment and Photo Experiences* \n*Beer and Wine available from Cash Bar ~ additional Charitable Donations accepted at the Bash \nTogether we’ll grow community while making an impact on those struggling in our city. \n100% of proceeds go directly to cutting-edge homelessness prevention\, reversal and recovery interventions in the Las Vegas community. \n \nEVENT BACKSTORY \nFor 30 years\, the Hero School charity has used the math of hero movies to quickly prevent and reverse homelessness in Southern Nevada. \nFor 25 years\, restauranteur Karrie Hung has delivered gourmet Chinese cuisine from her restaurant at the Venetian Resort – and now again at Taste of Asia in the Gold Coast. \nAnd 20 years ago\, Stephen Chow created one of the most brilliant\, inspiring – and just plain FUN – hero movies of all time: Kung Fu Hustle. \nThe Kung Fu Hustle Birthday Bash combines the best of three worlds to bring real life heroes together to celebrate culture\, heroism and one another and benefit Hero School Community Initiatives in our community. \n \nDO THE HUSTLE \nAfter the gourmet feast\, birthday cake and new and notable connections\, you’ll join local friends and celebs for dancing and international karaoke. Dressing up in Kung Fu Hustle characters and Asian fashions is encouraged! \nWe’ll groove to the beats of disco delights\, indulge in delicious Asian cuisine\, and witness captivating performances by talented artists and local leaders. Whether you’re a movie fan\, Kung Fu master or disco enthusiast\, you’ll love celebrating life and friends with dancing\, photos and convos at this unforgettable event. \nABOUT THE CHARITY \nSolving homelessness is an intricate challenge and breaking vicious cycles for struggling people requires more than handouts. \nCelebrating 30 years\, Hero School Community Initiatives remains the non-profit leader in homelessness reversal and prevention\, combining extraordinary entrepreneurs and professionals with cutting-edge education\, strategic resources and collaborative initiatives that quickly change mindsets\, behavior and character\, freeing people from homelessness\, dependency and repeated history. \nThe organization works tirelessly to build sustainable people for sustainable neighborhoods\, schools and businesses. \nMission: Hero School delivers initiatives that enlighten and change mindsets\, ignite lifelong learning and intrapreneurship\, and empower youth and adults to become the next heroes for their families\, companies and communities. \nLVFC dba Hero School Initiatives ~ www.HeroSchool.us ~ 88-0388656 ~ (702) 795-7000 ~ 30 Years of Real. Life. Change. At The Speed of Movies™
URL:https://heroschool.us/event/kung-fu-hustle-birthday-bash-2025/
LOCATION:Taste of Asia – Suncoast Hotel Las Vegas\, 9090 Alta Drive\, Las Vegas\, NV\, 89144\, United States
CATEGORIES:Hero School Events
ATTACH;FMTTYPE=image/jpeg:https://heroschool.us/wp-content/uploads/2025/07/IMG_3411.jpg
END:VEVENT
END:VCALENDAR